BEGIN:VCALENDAR
VERSION:2.0
PRODID:-//karinefaucher - ECPv6.15.20//NONSGML v1.0//EN
CALSCALE:GREGORIAN
METHOD:PUBLISH
X-ORIGINAL-URL:https://www.karinefaucher.com
X-WR-CALDESC:Évènements pour karinefaucher
REFRESH-INTERVAL;VALUE=DURATION:PT1H
X-Robots-Tag:noindex
X-PUBLISHED-TTL:PT1H
BEGIN:VTIMEZONE
TZID:Europe/Paris
BEGIN:DAYLIGHT
TZOFFSETFROM:+0100
TZOFFSETTO:+0200
TZNAME:CEST
DTSTART:20240331T010000
END:DAYLIGHT
BEGIN:STANDARD
TZOFFSETFROM:+0200
TZOFFSETTO:+0100
TZNAME:CET
DTSTART:20241027T010000
END:STANDARD
BEGIN:DAYLIGHT
TZOFFSETFROM:+0100
TZOFFSETTO:+0200
TZNAME:CEST
DTSTART:20250330T010000
END:DAYLIGHT
BEGIN:STANDARD
TZOFFSETFROM:+0200
TZOFFSETTO:+0100
TZNAME:CET
DTSTART:20251026T010000
END:STANDARD
BEGIN:DAYLIGHT
TZOFFSETFROM:+0100
TZOFFSETTO:+0200
TZNAME:CEST
DTSTART:20260329T010000
END:DAYLIGHT
BEGIN:STANDARD
TZOFFSETFROM:+0200
TZOFFSETTO:+0100
TZNAME:CET
DTSTART:20261025T010000
END:STANDARD
END:VTIMEZONE
BEGIN:VEVENT
DTSTART;TZID=Europe/Paris:20250415T190000
DTEND;TZID=Europe/Paris:20250415T210000
DTSTAMP:20260419T205953
CREATED:20250213T104821Z
LAST-MODIFIED:20250213T104857Z
UID:17918-1744743600-1744750800@www.karinefaucher.com
SUMMARY:Webinaire sur le flair du chien
DESCRIPTION:Le 15 avril à 19H00\nLes chiens sont connus pour détenir un odorat exceptionnel et dans ce webinaire nous allons nous intéresser à l’odorat du chien et ses facteurs de développement. \n  \n\n\n\nLe webinaire dans les grandes lignes:\nLes chiens sont connus pour détenir un odorat exceptionnel et dans ce webinaire nous allons nous intéresser à l’odorat du chien et ses facteurs de développement:\nLe webinaire dans les grandes lignes:\nLe flair un processus indispensable à la survie\nLe flair du chien-comment ça fonctionne\nLe flair du chien comme « le meilleur ami de l’homme »\nLe monde des odeurs vu par le chien\nLes facteurs de développement du flair\nLes nuisances quotidiennes qui ont un impact sur le flair\nLa production d’odeur\nPeut-on utiliser le flair pour améliorer son état émotionnel\nComment développer le flair de son chien\nLe jardin sensoriel\nQuelques exemples d’activités autour du flair seul et en groupe\n\n\nPour réserver votre place
URL:https://www.karinefaucher.com/evenement/17918/
ATTACH;FMTTYPE=image/jpeg:https://www.karinefaucher.com/wp-content/uploads/animal-4661341_1280.jpg
END:VEVENT
BEGIN:VEVENT
DTSTART;TZID=Europe/Paris:20250419T090000
DTEND;TZID=Europe/Paris:20250421T170000
DTSTAMP:20260419T205953
CREATED:20221024T093004Z
LAST-MODIFIED:20250110T120133Z
UID:11267-1745053200-1745254800@www.karinefaucher.com
SUMMARY:Stage de mantrailing et météo
DESCRIPTION:Stage animé par Karine Faucher – Harmonie Canine \n\n\nDans ce stage de mantrailing\, je vous propose d’explorer l’impact crucial des conditions météorologiques sur la diffusion des odeurs et l’efficacité de la recherche. Vous apprendrez à mieux comprendre comment la température\, l’humidité\, le vent et les variations atmosphériques influencent la trajectoire des traces olfactives. À travers des exercices pratiques et des démonstrations sur le terrain\, vous découvrirez comment adapter vos techniques de suivi en fonction des conditions climatiques. Ce stage est idéal pour les passionnés de mantrailing qui souhaitent affiner leurs compétences en intégrant la dimension environnementale dans leur pratique. \n\nUn travail d’équipe qui fait appel aux aptitudes naturelles de votre chien à flairer. \n\nAprès chaque piste\, nous ferons un débriefing de celle-ci et la théorie sera couverte pendant les pauses déjeuner.\n\n\n\nPrix: 250 euro par personne avec chien\, 170 euros par personne (observateur sans chien)\nMaximum 8 personnes par stage et maximum 6 chiens. \nCe stage est adapté pour les débutants et les expérimentés\, il n’ y a donc pas de niveau de pré-requis. \nhttps://www.karinefaucher.com/formations/presentiel/stage-de-mantrailing/
URL:https://www.karinefaucher.com/evenement/stage-de-mantrailing-2/
LOCATION:Nemours
ATTACH;FMTTYPE=image/jpeg:https://www.karinefaucher.com/wp-content/uploads/218609232_10160985025704348_2486685851746035069_n.jpg
END:VEVENT
END:VCALENDAR