BEGIN:VCALENDAR
VERSION:2.0
PRODID:-//karinefaucher - ECPv6.15.20//NONSGML v1.0//EN
CALSCALE:GREGORIAN
METHOD:PUBLISH
X-WR-CALNAME:karinefaucher
X-ORIGINAL-URL:https://www.karinefaucher.com
X-WR-CALDESC:Évènements pour karinefaucher
REFRESH-INTERVAL;VALUE=DURATION:PT1H
X-Robots-Tag:noindex
X-PUBLISHED-TTL:PT1H
BEGIN:VTIMEZONE
TZID:Europe/Paris
BEGIN:DAYLIGHT
TZOFFSETFROM:+0100
TZOFFSETTO:+0200
TZNAME:CEST
DTSTART:20230326T010000
END:DAYLIGHT
BEGIN:STANDARD
TZOFFSETFROM:+0200
TZOFFSETTO:+0100
TZNAME:CET
DTSTART:20231029T010000
END:STANDARD
BEGIN:DAYLIGHT
TZOFFSETFROM:+0100
TZOFFSETTO:+0200
TZNAME:CEST
DTSTART:20240331T010000
END:DAYLIGHT
BEGIN:STANDARD
TZOFFSETFROM:+0200
TZOFFSETTO:+0100
TZNAME:CET
DTSTART:20241027T010000
END:STANDARD
BEGIN:DAYLIGHT
TZOFFSETFROM:+0100
TZOFFSETTO:+0200
TZNAME:CEST
DTSTART:20250330T010000
END:DAYLIGHT
BEGIN:STANDARD
TZOFFSETFROM:+0200
TZOFFSETTO:+0100
TZNAME:CET
DTSTART:20251026T010000
END:STANDARD
END:VTIMEZONE
BEGIN:VEVENT
DTSTART;TZID=Europe/Paris:20240927T090000
DTEND;TZID=Europe/Paris:20240929T170000
DTSTAMP:20260420T085157
CREATED:20240202T055115Z
LAST-MODIFIED:20240202T055211Z
UID:15761-1727427600-1727629200@www.karinefaucher.com
SUMMARY:Stage de cognition canine (mémoire et déduction) région de Bordeaux
DESCRIPTION:Stage de Cognition Canine – Déduction et mémoire région de Bordeaux (Saint Selve) les 27\, 28 et 29 septembre 2024.\n\nObjectifs :\n\nPratiquer des tests avec vos chiens afin d’obtenir des informations sur leur mémoire et sur leur capacité de déduction.\n\nPendant trois jours\, nous allons pratiquer des tests de cognition et testez vos chiens en mémoire et déduction! Les résultats des tests vous permettront de mieux aborder vos apprentissages avec votre chien et aussi de mieux le connaître voir mieux communiquer avec lui.\n\nLe but de ces informations est d’adapter les apprentissages dans la ou les discipline(s) que vous pratiquez avec lui.\n\nA la fin de ces 3 jours vous aurez des réponses sur comment votre chien apprend\, utilise t’il sa mémoire ou a t’il une bonne mémoire ? Comment sa déduction peut résoudre des problèmes? Sa rapidité en déduction est elle adaptée pour l’apprentissage que vous lui proposez?\n\nTous publics acceptés pas de pré-requis :\n\nPropriétaire de chiens et/ ou professionnels\n\nCes tests ont été créés sous forme de jeux\, ils seront encadrés de façon bienveillante et ne représentent aucun danger pour le chien ni même l’humain.\nPrix: 275 euro par binôme\nUniquement sur inscription via le lien
URL:https://www.karinefaucher.com/evenement/stage-de-cognition-canine-memoire-et-deduction-region-de-bordeaux/
LOCATION:33650 Saint Selve\, France
ATTACH;FMTTYPE=image/jpeg:https://www.karinefaucher.com/wp-content/uploads/pexels-alotrobo-2848707-1-scaled.jpg
END:VEVENT
END:VCALENDAR