BEGIN:VCALENDAR
VERSION:2.0
PRODID:-//karinefaucher - ECPv6.15.20//NONSGML v1.0//EN
CALSCALE:GREGORIAN
METHOD:PUBLISH
X-ORIGINAL-URL:https://www.karinefaucher.com
X-WR-CALDESC:Évènements pour karinefaucher
REFRESH-INTERVAL;VALUE=DURATION:PT1H
X-Robots-Tag:noindex
X-PUBLISHED-TTL:PT1H
BEGIN:VTIMEZONE
TZID:Europe/Paris
BEGIN:DAYLIGHT
TZOFFSETFROM:+0100
TZOFFSETTO:+0200
TZNAME:CEST
DTSTART:20230326T010000
END:DAYLIGHT
BEGIN:STANDARD
TZOFFSETFROM:+0200
TZOFFSETTO:+0100
TZNAME:CET
DTSTART:20231029T010000
END:STANDARD
BEGIN:DAYLIGHT
TZOFFSETFROM:+0100
TZOFFSETTO:+0200
TZNAME:CEST
DTSTART:20240331T010000
END:DAYLIGHT
BEGIN:STANDARD
TZOFFSETFROM:+0200
TZOFFSETTO:+0100
TZNAME:CET
DTSTART:20241027T010000
END:STANDARD
BEGIN:DAYLIGHT
TZOFFSETFROM:+0100
TZOFFSETTO:+0200
TZNAME:CEST
DTSTART:20250330T010000
END:DAYLIGHT
BEGIN:STANDARD
TZOFFSETFROM:+0200
TZOFFSETTO:+0100
TZNAME:CET
DTSTART:20251026T010000
END:STANDARD
END:VTIMEZONE
BEGIN:VEVENT
DTSTART;TZID=Europe/Paris:20240416T090000
DTEND;TZID=Europe/Paris:20240418T170000
DTSTAMP:20260420T165221
CREATED:20231015T094458Z
LAST-MODIFIED:20231015T094823Z
UID:14972-1713258000-1713459600@www.karinefaucher.com
SUMMARY:Stage de détection et mantrailing 100% pratique
DESCRIPTION:100% pratique et tous niveaux\nStage de 3 jours encadré par Laure Hanouna et Karine Faucher \nL’objectif de ce stage est de  pratiquer les 2 disciplines mantrailing & détection \nPratique détection: \n\nConditionnement à l’odeur (si applicable)\nDésignation\nTravailler la recherche systématique\nMotivation et indépendance dans la recherche\nSolidification des comportements\n\nPratique mantrailing: \n\ninitiation pour les débutants\nMotivation et autonomie en recherche\nTravail sur la prise d’odeur\nTravail sur les distractions\nAutres difficultés que vous désirez travailler\n\nLe stage se déroulera dans différents environnements urbain- forêt\, plaines \nPrix: 345 euro \nUniquement sur inscription via le lien: \nhttps://chienzen.ch/eventer/b1-stage-de-detection-et-mantrailing/edate/2024-04-16/
URL:https://www.karinefaucher.com/evenement/stage-de-detection-et-mantrailing-100-pratique/
LOCATION:Libramont Chevigny- Belgique\, Belgique
ATTACH;FMTTYPE=image/jpeg:https://www.karinefaucher.com/wp-content/uploads/DSC_0204-1-scaled.jpg
END:VEVENT
END:VCALENDAR