BEGIN:VCALENDAR
VERSION:2.0
PRODID:-//karinefaucher - ECPv6.15.20//NONSGML v1.0//EN
CALSCALE:GREGORIAN
METHOD:PUBLISH
X-ORIGINAL-URL:https://www.karinefaucher.com
X-WR-CALDESC:Évènements pour karinefaucher
REFRESH-INTERVAL;VALUE=DURATION:PT1H
X-Robots-Tag:noindex
X-PUBLISHED-TTL:PT1H
BEGIN:VTIMEZONE
TZID:Europe/Paris
BEGIN:DAYLIGHT
TZOFFSETFROM:+0100
TZOFFSETTO:+0200
TZNAME:CEST
DTSTART:20230326T010000
END:DAYLIGHT
BEGIN:STANDARD
TZOFFSETFROM:+0200
TZOFFSETTO:+0100
TZNAME:CET
DTSTART:20231029T010000
END:STANDARD
BEGIN:DAYLIGHT
TZOFFSETFROM:+0100
TZOFFSETTO:+0200
TZNAME:CEST
DTSTART:20240331T010000
END:DAYLIGHT
BEGIN:STANDARD
TZOFFSETFROM:+0200
TZOFFSETTO:+0100
TZNAME:CET
DTSTART:20241027T010000
END:STANDARD
BEGIN:DAYLIGHT
TZOFFSETFROM:+0100
TZOFFSETTO:+0200
TZNAME:CEST
DTSTART:20250330T010000
END:DAYLIGHT
BEGIN:STANDARD
TZOFFSETFROM:+0200
TZOFFSETTO:+0100
TZNAME:CET
DTSTART:20251026T010000
END:STANDARD
END:VTIMEZONE
BEGIN:VEVENT
DTSTART;TZID=Europe/Paris:20240223T080000
DTEND;TZID=Europe/Paris:20240225T170000
DTSTAMP:20260420T201154
CREATED:20230913T044007Z
LAST-MODIFIED:20240202T060523Z
UID:14753-1708675200-1708880400@www.karinefaucher.com
SUMMARY:Complet stage de cognition canine
DESCRIPTION:Objectifs : \nPratiquer des tests avec vos chiens afin d’obtenir des informations sur leur mémoire et sur leur capacité de déduction. \nPendant trois jours\, nous allons pratiquer des tests de cognition et testez vos chiens en mémoire et déduction. Les résultats des tests vous permettront de mieux aborder vos apprentissages avec votre chien et aussi de mieux le connaître voir mieux communiquer avec lui. \nLe but de ces informations est d’adapter les apprentissages dans la ou les discipline(s) que vous pratiquez avec lui. \nA la fin de ces 3 jours vous aurez des réponses sur comment votre chien apprend\, utilise t’il sa mémoire ou a t’il une bonne mémoire ? Comment sa déduction peut résoudre des problèmes? Sa rapidité en déduction est-elle adaptée pour l’apprentissage que vous lui proposez? \nTous publics acceptés pas de pré-requis : \nPropriétaire de chiens et/ ou professionnels \nCes tests ont été créés sous forme de jeux\, ils seront encadrés de façon bienveillante et ne représentent aucun danger pour le chien ni même l’humain. \n12 binômes maximum \nUniquement sur inscription via ce lien
URL:https://www.karinefaucher.com/evenement/14753/
LOCATION:Nemours
ATTACH;FMTTYPE=image/jpeg:https://www.karinefaucher.com/wp-content/uploads/377581945_792006172723076_1717740851599467773_n.jpeg
END:VEVENT
END:VCALENDAR