BEGIN:VCALENDAR
VERSION:2.0
PRODID:-//karinefaucher - ECPv6.15.20//NONSGML v1.0//EN
CALSCALE:GREGORIAN
METHOD:PUBLISH
X-WR-CALNAME:karinefaucher
X-ORIGINAL-URL:https://www.karinefaucher.com
X-WR-CALDESC:Évènements pour karinefaucher
REFRESH-INTERVAL;VALUE=DURATION:PT1H
X-Robots-Tag:noindex
X-PUBLISHED-TTL:PT1H
BEGIN:VTIMEZONE
TZID:Europe/Paris
BEGIN:DAYLIGHT
TZOFFSETFROM:+0100
TZOFFSETTO:+0200
TZNAME:CEST
DTSTART:20220327T010000
END:DAYLIGHT
BEGIN:STANDARD
TZOFFSETFROM:+0200
TZOFFSETTO:+0100
TZNAME:CET
DTSTART:20221030T010000
END:STANDARD
BEGIN:DAYLIGHT
TZOFFSETFROM:+0100
TZOFFSETTO:+0200
TZNAME:CEST
DTSTART:20230326T010000
END:DAYLIGHT
BEGIN:STANDARD
TZOFFSETFROM:+0200
TZOFFSETTO:+0100
TZNAME:CET
DTSTART:20231029T010000
END:STANDARD
BEGIN:DAYLIGHT
TZOFFSETFROM:+0100
TZOFFSETTO:+0200
TZNAME:CEST
DTSTART:20240331T010000
END:DAYLIGHT
BEGIN:STANDARD
TZOFFSETFROM:+0200
TZOFFSETTO:+0100
TZNAME:CET
DTSTART:20241027T010000
END:STANDARD
END:VTIMEZONE
BEGIN:VEVENT
DTSTART;TZID=Europe/Paris:20230925T080000
DTEND;TZID=Europe/Paris:20230927T170000
DTSTAMP:20260421T044059
CREATED:20220316T202945Z
LAST-MODIFIED:20240109T161300Z
UID:7788-1695628800-1695834000@www.karinefaucher.com
SUMMARY:Stage de mantrailing Nemours
DESCRIPTION:Je vous propose l’activité du Mantrailing où votre chien va apprendre à rechercher une personne en suivant sa piste.\n\nUne activité qui renforce la relation entre le maître et son chien.\n\nUn travail d’équipe qui fait appel aux aptitudes naturelles de votre chien à flairer.\nLe stage de mantrailing dans les grandes lignes:\nLe stage de mantrailing dans les grandes lignes\n\n 	l’identification\n 	la désignation\n 	le départ\n 	la prise d’odeur\n 	la routine de départ\n 	comment créer une piste (en fonction du chien) piste facile\, difficile contournement etc…\n 	comment encourager son chien\n 	les pistes fraiches\n 	les pistes anciennes\n 	comment gérer la longe\n 	comment lire son chien\n 	le language corporel du conducteur\n 	lire le chien\n 	les différentes méthodes adoptées par les chiens pour pister\n 	le pistage thérapeutique\n 	être en gestion de son chien\n 	l’impact du pistage sur le comportement du chien\n\nPrix: 215 euro par personne avec chien\, 150 euros par personne (observateur sans chien)\nToutes les pistes seront filmées.\n\nMaximum 8 personnes par stage et maximum 6 chiens.\n\nCe stage est adapté pour les débutants et les expérimentés\, il n’ y a donc pas de niveau de pré-requis.\n\nLogement possible\, nous pouvons vous envoyer une liste d’hôtels.\n\nUniquement sur inscription via le lien suivant:\n\nhttps://www.karinefaucher.com/stage-de-mantrailing/
URL:https://www.karinefaucher.com/evenement/stage-de-mantrailing-nemours/
LOCATION:Nemours
ATTACH;FMTTYPE=image/jpeg:https://www.karinefaucher.com/wp-content/uploads/Mantrailing3.jpg
END:VEVENT
BEGIN:VEVENT
DTSTART;TZID=Europe/Paris:20230929T100000
DTEND;TZID=Europe/Paris:20231001T170000
DTSTAMP:20260421T044059
CREATED:20230306T154747Z
LAST-MODIFIED:20240122T172447Z
UID:13368-1695981600-1696179600@www.karinefaucher.com
SUMMARY:Stage de cognition canine
DESCRIPTION:Stage de Cognition Canine – Déduction et mémoire région de Nemours (77140)\n\nObjectifs :\n\nPratiquer des tests avec vos chiens afin d’obtenir des informations sur leur mémoire et sur leur capacité de déduction.\n\nPendant trois jours\, nous allons pratiquer des tests de cognition et testez vos chiens en mémoire et déduction! Les résultats des tests vous permettront de mieux aborder vos apprentissages avec votre chien et aussi de mieux le connaître voir mieux communiquer avec lui.\n\nLe but de ces informations est d’adapter les apprentissages dans la ou les discipline(s) que vous pratiquez avec lui.\n\nA la fin de ces 3 jours vous aurez des réponses sur comment votre chien apprend\, utilise t’il sa mémoire ou a t’il une bonne mémoire ? Comment sa déduction peut résoudre des problèmes? Sa rapidité en déduction est elle adaptée pour l’apprentissage que vous lui proposez?\n\nTous publics acceptés pas de pré-requis :\n\nPropriétaire de chiens et/ ou professionnels\n\nCes tests ont été créés sous forme de jeux\, ils seront encadrés de façon bienveillante et ne représentent aucun danger pour le chien ni même l’humain.\n\nMaximun 12 binômes\nhttps://www.karinefaucher.com/stage-de-cognition-canine-memoire-et-deduction/
URL:https://www.karinefaucher.com/evenement/stage-de-cognition-canine/
ATTACH;FMTTYPE=image/jpeg:https://www.karinefaucher.com/wp-content/uploads/pexels-alotrobo-1562983-2-scaled.jpg
END:VEVENT
END:VCALENDAR