BEGIN:VCALENDAR
VERSION:2.0
PRODID:-//karinefaucher - ECPv6.15.20//NONSGML v1.0//EN
CALSCALE:GREGORIAN
METHOD:PUBLISH
X-WR-CALNAME:karinefaucher
X-ORIGINAL-URL:https://www.karinefaucher.com
X-WR-CALDESC:Évènements pour karinefaucher
REFRESH-INTERVAL;VALUE=DURATION:PT1H
X-Robots-Tag:noindex
X-PUBLISHED-TTL:PT1H
BEGIN:VTIMEZONE
TZID:Europe/Paris
BEGIN:DAYLIGHT
TZOFFSETFROM:+0100
TZOFFSETTO:+0200
TZNAME:CEST
DTSTART:20210328T010000
END:DAYLIGHT
BEGIN:STANDARD
TZOFFSETFROM:+0200
TZOFFSETTO:+0100
TZNAME:CET
DTSTART:20211031T010000
END:STANDARD
BEGIN:DAYLIGHT
TZOFFSETFROM:+0100
TZOFFSETTO:+0200
TZNAME:CEST
DTSTART:20220327T010000
END:DAYLIGHT
BEGIN:STANDARD
TZOFFSETFROM:+0200
TZOFFSETTO:+0100
TZNAME:CET
DTSTART:20221030T010000
END:STANDARD
BEGIN:DAYLIGHT
TZOFFSETFROM:+0100
TZOFFSETTO:+0200
TZNAME:CEST
DTSTART:20230326T010000
END:DAYLIGHT
BEGIN:STANDARD
TZOFFSETFROM:+0200
TZOFFSETTO:+0100
TZNAME:CET
DTSTART:20231029T010000
END:STANDARD
END:VTIMEZONE
BEGIN:VEVENT
DTSTART;TZID=Europe/Paris:20221019T200000
DTEND;TZID=Europe/Paris:20221019T213000
DTSTAMP:20260421T224648
CREATED:20210908T071519Z
LAST-MODIFIED:20220620T103044Z
UID:6834-1666209600-1666215000@www.karinefaucher.com
SUMMARY:L'adoption d'un deuxième chien
DESCRIPTION:Le but de ce webinair est de promouvoir l’adoption mais aussi de prévenir l’abandon. \n\n\nLes motivations\nVotre chien va t’il accepter?\nLe choix du deuxième chien\nLa différence d’âge\nLa préparation avant l’arrivée du deuxième chien\nLa première rencontre\nL’arrivée à la maison\nGérer le relationnel\nEtre juste et équitable dans les ressources\n\n\n\n\nOuvert aux personnes qui veulent obtenir des conseils sur une adoption et aux professionnels\, associations désireux de se perfectionner sur l’adoption d’un deuxième chien.\n45 euro\n\n\n\nMaximum 12 personne pour la session pour assurer une qualité du webinaire sur zoom:\nUniquement sur réservation\nhttps://www.karinefaucher.com/et-si-on-prenait-un-deuxieme-chien/
URL:https://www.karinefaucher.com/evenement/ladoption-dun-deuxieme-chien/
ATTACH;FMTTYPE=image/jpeg:https://www.karinefaucher.com/wp-content/uploads/pexels-photo-3628100.jpeg
END:VEVENT
END:VCALENDAR