BEGIN:VCALENDAR
VERSION:2.0
PRODID:-//karinefaucher - ECPv6.15.20//NONSGML v1.0//EN
CALSCALE:GREGORIAN
METHOD:PUBLISH
X-ORIGINAL-URL:https://www.karinefaucher.com
X-WR-CALDESC:Évènements pour karinefaucher
REFRESH-INTERVAL;VALUE=DURATION:PT1H
X-Robots-Tag:noindex
X-PUBLISHED-TTL:PT1H
BEGIN:VTIMEZONE
TZID:Europe/Paris
BEGIN:DAYLIGHT
TZOFFSETFROM:+0100
TZOFFSETTO:+0200
TZNAME:CEST
DTSTART:20200329T010000
END:DAYLIGHT
BEGIN:STANDARD
TZOFFSETFROM:+0200
TZOFFSETTO:+0100
TZNAME:CET
DTSTART:20201025T010000
END:STANDARD
BEGIN:DAYLIGHT
TZOFFSETFROM:+0100
TZOFFSETTO:+0200
TZNAME:CEST
DTSTART:20210328T010000
END:DAYLIGHT
BEGIN:STANDARD
TZOFFSETFROM:+0200
TZOFFSETTO:+0100
TZNAME:CET
DTSTART:20211031T010000
END:STANDARD
BEGIN:DAYLIGHT
TZOFFSETFROM:+0100
TZOFFSETTO:+0200
TZNAME:CEST
DTSTART:20220327T010000
END:DAYLIGHT
BEGIN:STANDARD
TZOFFSETFROM:+0200
TZOFFSETTO:+0100
TZNAME:CET
DTSTART:20221030T010000
END:STANDARD
END:VTIMEZONE
BEGIN:VEVENT
DTSTART;TZID=Europe/Paris:20211001T090000
DTEND;TZID=Europe/Paris:20211003T170000
DTSTAMP:20260422T193740
CREATED:20210618T130049Z
LAST-MODIFIED:20210618T131629Z
UID:5878-1633078800-1633280400@www.karinefaucher.com
SUMMARY:Formation pratique sur l'accompagnement de chiens au passé difficile
DESCRIPTION:Objectifs de la formation :\n– développer des connaissances sur le comportement des chiens anxieux\, traumatisés\n– adapter son language corporel et l’environnement pour travailler avec des chiens anxieux\n-développer un protocole adapté à chaque problématique par chien\nPublique visé :\nFamille d’accueil\nProfessionnels du chien\nAdoptants\nL’idée est d’apprendre aux adoptants/ professionnels et famille d’accueil à travailler avec des chiens traumatisés ou anxieux afin d’atténuer la sensibilité de certains chiens sur des stimulations à l’extérieur par exemple : congénères\, rapport avec l’être humain\, bruits et autres perturbations.\nLa formation se déroule au sein d’une pension canine qui accueille des chiens au passé difficile\, elle comprend de l’observation et de la pratique\, elle comprendra aussi des phases théoriques avec des débriefings sur la pratique.\nPendant ces 3 jours nous aurons l’occasion de pratiquer avec des chiens qui ont besoin d’être accompagné et d’apprendre à définir un protocole afin de rendre leur perception harmonieuse sur l’environnement dans lequel ils évoluent.\nCette formation est proposée en partenariat avec la pension Comme chez vous\, l’association NPE et le centre de bien être animal d’Ath\nPrix 250 euro les 3 jours par personne\, une partie de cette somme sera reversée à l’association NPE\nMaximum 12 personnes\nUniquement sur réservation en envoyant un email à karine.new@gmail.com
URL:https://www.karinefaucher.com/evenement/formation-pratique-sur-laccompagnement-de-chiens-au-passe-difficile/
LOCATION:Comme chez vous\, Rue de Mortagne 9\, Frasnes-lez-Anvaing\, 7910\, Belgique
ATTACH;FMTTYPE=image/jpeg:https://www.karinefaucher.com/wp-content/uploads/2020-07-16-06-37-03-1200x800-2.jpg
END:VEVENT
BEGIN:VEVENT
DTSTART;TZID=Europe/Paris:20211004T090000
DTEND;TZID=Europe/Paris:20211005T170000
DTSTAMP:20260422T193740
CREATED:20210618T130544Z
LAST-MODIFIED:20210817T102516Z
UID:5880-1633338000-1633453200@www.karinefaucher.com
SUMMARY:Gestion de la consultation
DESCRIPTION:Atelier sur la gestion de la communication\nCet atelier est donné par webinaire (zoom)\nPendant deux jours\, nous allons travailler sur des cas concrets avec des jeux de rôles\nCes cas concrêts sont basés sur mes consultations\nL’atelier dans les grandes lignes:\nLa gestion du client :\nL’écoute\nGestion de l’émotion\nGestion de l’anthropomorphisme\nLa communication :\nLa communication clé de l’efficacité et de la compétence\nQuestions-Réponses\nComment apportez un sujet difficile à propos du bien être du chien\nComment présenter les erreurs commises de façon positive.\nComment se focaliser sur le futur au lieu du passé\nLes conseils à donner pour une meilleure cohérence maître-chien\nComment encourager les solutions qui déplaisent\nComment rendre la communication fluide et posée.\nLa consultation :\nLe déroulement de la consultation\nLe suivi\nLes services après la consultation\nEtude de cas concrets :\nEtudes d’anamnèse\nAteliers de mise en situation\ncomment rédiger un résumé de consultation\nPrix : 185 euro\nSyllabus compris\nAfin d’assurer une bonne qualité du cours\, j’accepte 12 personnes maximum.\nInscription: https://www.karinefaucher.com/…/cours…/
URL:https://www.karinefaucher.com/evenement/gestion-de-la-consultation/
LOCATION:Centre Bien-Être pour Animaux IntuitivEnergy\, Rte de Frasnes 230\, Mainvault\, 7812\, Belgique
ATTACH;FMTTYPE=image/jpeg:https://www.karinefaucher.com/wp-content/uploads/121439521_3131740743603475_6595575404463299945_n-e1625040606791.jpg
END:VEVENT
END:VCALENDAR